Workbook
Name Slicer_Product: #N/A

Sheet Instructions
A1: Name: Yi Xiu Lim
A2: The purpose of this spreadsheet is to provide clear instructions and layout of the steps of creating this Apple Victoria Limited dashboard.
A4: There are 4 worksheets in total:
A5: 1) Instruction:
A6: - Provides details in creating this dashboard.
A8: 2) Data input:
A9: - All the data regarding products, employees, quantity of inventory on hand and also the sales quantity of Apple Victoria Limited are pasted in this worksheet.
A10: - Data validation rules are set for these data:
A11: -The first one is a customized data rule to control numeric or text data inputs. It has been applied in unit cost, monthly sales unit and monthly inventory quantity columns to ensure the data are numeric. Besides, the departments are ensured to be named instead of being represented by numbers.
A12: -The second data validation rule is also a customized range rule to ensure that the input of sales price is greater than the unit cost. It is also applied in monthly hour column to prevent too big amount included. Error messages will pop out if these two validation rules are not followed.
A13: -The third rule is by setting a dropdown list for the type of products and employee names.
A14: -The last data validation rule applied is the presence of an input message on the monthly sales target column to give reminder that admin department employees do not have a sales target.
... A61: - The last feature used is conditional formatting. Data bars to display inventory turnover and colours to indicate the level of sales growth have been applied.
Q116: (1091 words)

Sheet Data Input
A1: Products: | F1: Employees:
A2: Product | B2: Type | C2: Unit cost | D2: Sales Price | F2: Name | G2: Department | H2: Monthly Sales Target | I2: Monthly Hours | J2: Shop
A3: iphone 8 256gb | B3: iphone | C3: 843 | D3: 1297 | F3: Mary | G3: Sales | H3: 200000 | I3: 120 | J3: Chadstone
A4: iphone 8 64gb | B4: desktop | C4: 680 | D4: 1047 | F4: John | G4: Admin | H4: 0 | I4: 37 | J4: City
A5: iphone 8 Plus 256GB | B5: iphone | C5: 940 | D5: 1447 | F5: Peter | G5: Sales | H5: 200000 | I5: 80 | J5: City
A6: iphone 7 32GB | B6: iphone | C6: 550 | D6: 847 | F6: Sally | G6: Sales | H6: 200000 | I6: 120 | J6: Chadstone
A7: 15inch Macbook Pro 256GB | B7: Macbook | C7: 2449 | D7: 3499 | F7: Arthur | G7: Admin | H7: 0 | I7: 64 | J7: Chadstone
A8: 13inch Macbook Air 256GB | B8: Macbook | C8: 1539 | D8: 2199
A9: Macbook Air 13inch 128GB | B9: Macbook | C9: 1330 | D9: 1899 | F9: Quantity inventory on hand: | I9: Closing Inventory
A10: Apple 21.5 inch imac 2.3Ghz | B10: desktop | C10: 1279 | D10: 1599 | F10: Product | G10: Product Type | H10: Opening Inventory July 17 | I10: 42947 | J10: 42977 | K10: 43008 | L10: 43039 | M10: 43069 | N10: 43100
A11: Apple 27 inch imac | B11: desktop | C11: 2399 | D11: 2999 | F11: iphone 8 256gb | G11: iphone | H11: 5 | I11: 6 | J11: 8 | K11: 2 | L11: 15 | M11: 8 | N11: 14
A12: ipad mini 4 wifi 128gb | B12: ipad | C12: 347 | D12: 578 | F12: iphone 8 64gb | G12: iphone | H12: 25 | I12: 10 | J12: 5 | K12: 14 | L12: 12 | M12: 25 | N12: 29
A13: ipad 10.5 inch pro | B13: ipad | C13: 677 | D13: 1129 | F13: iphone 8 Plus 256GB | G13: iphone | H13: 20 | I13: 12 | J13: 11 | K13: 5 | L13: 13 | M13: 15 | N13: 5
A14: ipad 12.9 inch pro | B14: ipad | C14: 809 | D14: 1349 | F14: iphone 7 32GB | G14: iphone | H14: 12 | I14: 16 | J14: 14 | K14: 14 | L14: 18 | M14: 12 | N14: 16
A15: watch series 3 38mm | B15: watch | C15: 230 | D15: 459 | F15: 15inch Macbook Pro 256GB | G15: Macbook | H15: 18 | I15: 6 | J15: 9 | K15: 5 | L15: 7 | M15: 14 | N15: 20
A16: watch series 3 42mm | B16: watch | C16: 249 | D16: 499 | F16: 13inch Macbook Air 256GB | G16: Macbook | H16: 22 | I16: 19 | J16: 11 | K16: 4 | L16: 8 | M16: 11 | N16: 8
F17: Macbook Air 13inch 128GB | G17: Macbook | H17: 5 | I17: 15 | J17: 18 | K17: 16 | L17: 18 | M17: 12 | N17: 3
F18: Apple 21.5 inch imac 2.3Ghz | G18: desktop | H18: 25 | I18: 2 | J18: 18 | K18: 5 | L18: 9 | M18: 12 | N18: 6
F19: Apple 27 inch imac | G19: desktop | H19: 15 | I19: 16 | J19: 18 | K19: 12 | L19: 8 | M19: 9 | N19: 15
F20: ipad mini 4 wifi 128gb | G20: ipad | H20: 18 | I20: 21 | J20: 23 | K20: 21 | L20: 13 | M20: 24 | N20: 12
F21: ipad 10.5 inch pro | G21: ipad | H21: 13 | I21: 8 | J21: 9 | K21: 9 | L21: 12 | M21: 8 | N21: 14
F22: ipad 12.9 inch pro | G22: ipad | H22: 14 | I22: 9 | J22: 9 | K22: 6 | L22: 2 | M22: 2 | N22: 4
F23: watch series 3 38mm | G23: watch | H23: 5 | I23: 9 | J23: 14 | K23: 13 | L23: 9 | M23: 15 | N23: 14
F24: watch series 3 42mm | G24: watch | H24: 15 | I24: 12 | J24: 17 | K24: 8 | L24: 16 | M24: 7 | N24: 11
A26: Sales Quantity:
A27: Product | B27: Employee | C27: 42947 | D27: 42977 | E27: 43008 | F27: 43039 | G27: 43069 | H27: 43100
A28: iphone 8 256gb | B28: Mary | C28: 12 | D28: 8 | E28: 9 | F28: 18 | G28: 5 | H28: 3
A29: iphone 8 256gb | B29: Peter | C29: 14 | D29: 2 | E29: 5 | F29: 16 | G29: 7 | H29: 3
A30: iphone 8 256gb | B30: Sally | C30: 21 | D30: 15 | E30: 8 | F30: 14 | G30: 9 | H30: 3
A31: iphone 8 64gb | B31: Mary | C31: 23 | D31: 4 | E31: 8 | F31: 9 | G31: 15 | H31: 4
A32: iphone 8 64gb | B32: Peter | C32: 8 | D32: 4 | E32: 7 | F32: 6 | G32: 12 | H32: 4
A33: iphone 8 64gb | B33: Sally | C33: 6 | D33: 12 | E33: 9 | F33: 17 | G33: 7 | H33: 18
A34: iphone 8 Plus 256GB | B34: Mary | C34: 12 | D34: 5 | E34: 19 | F34: 14 | G34: 7 | H34: 16
A35: iphone 8 Plus 256GB | B35: Peter | C35: 19 | D35: 6 | E35: 7 | F35: 14 | G35: 4 | H35: 16
A36: iphone 7 32GB | B36: Sally | C36: 9 | D36: 14 | E36: 2 | F36: 12 | G36: 14 | H36: 13
A37: iphone 7 32GB | B37: Mary | C37: 17 | D37: 7 | E37: 8 | F37: 5 | G37: 19 | H37: 15
A38: 15inch Macbook Pro 256GB | B38: Peter | C38: 16 | D38: 9 | E38: 15 | F38: 18 | G38: 15 | H38: 5
... A68: ipad mini 4 wifi 128gb | B68: Arthur | C68: 12 | D68: 10 | E68: 11 | F68: 6 | G68: 3 | H68: 8

Sheet Calculation
B1: Ratios
A2: Product | B2: COGS | C2: Average Inventory | D2: Inventory turnover
A3: iphone 8 256gb | B3: =(GETPIVOTDATA(" Total",$G$3,"Product",$G4)*'Data Input'!$C3) -> 144996 | C3: =(SUM('Data Input'!$H11:$N11))/2 -> 29 | D3: =$B3/$C3 -> 4999.8621 | G3: Product | H3: Unit sales of Jul-17 | I3: Unit sales of Aug-17 | J3: Unit sales of Sep-17 | K3: Unit sales of Oct-17 | L3: Unit sales of Nov-17 | M3: Unit sales of Dec-17 | N3: Total
A4: iphone 8 64gb | B4: =(GETPIVOTDATA(" Total",$G$3,"Product",$G5)*'Data Input'!$C4) -> 117640 | C4: =(SUM('Data Input'!$H12:$N12))/2 -> 60 | D4: =$B4/$C4 -> 1960.6667 | G4: iphone 8 256gb | H4: 47 | I4: 25 | J4: 22 | K4: 48 | L4: 21 | M4: 9 | N4: 172
A5: iphone 8 Plus 256GB | B5: =(GETPIVOTDATA(" Total",$G$3,"Product",$G6)*'Data Input'!$C5) -> 130660 | C5: =(SUM('Data Input'!$H13:$N13))/2 -> 40.5 | D5: =$B5/$C5 -> 3226.1728 | G5: iphone 8 64gb | H5: 37 | I5: 20 | J5: 24 | K5: 32 | L5: 34 | M5: 26 | N5: 173
A6: iphone 7 32GB | B6: =(GETPIVOTDATA(" Total",$G$3,"Product",$G7)*'Data Input'!$C6) -> 74250 | C6: =(SUM('Data Input'!$H14:$N14))/2 -> 51 | D6: =$B6/$C6 -> 1455.8824 | G6: iphone 8 Plus 256GB | H6: 31 | I6: 11 | J6: 26 | K6: 28 | L6: 11 | M6: 32 | N6: 139
A7: 15inch Macbook Pro 256GB | B7: =(GETPIVOTDATA(" Total",$G$3,"Product",$G8)*'Data Input'!$C7) -> 482453 | C7: =(SUM('Data Input'!$H15:$N15))/2 -> 39.5 | D7: =$B7/$C7 -> 12214 | G7: iphone 7 32GB | H7: 26 | I7: 21 | J7: 10 | K7: 17 | L7: 33 | M7: 28 | N7: 135
A8: 13inch Macbook Air 256GB | B8: =(GETPIVOTDATA(" Total",$G$3,"Product",$G9)*'Data Input'!$C8) -> 317034 | C8: =(SUM('Data Input'!$H16:$N16))/2 -> 41.5 | D8: =$B8/$C8 -> 7639.3735 | G8: 15inch Macbook Pro 256GB | H8: 43 | I8: 30 | J8: 26 | K8: 43 | L8: 27 | M8: 28 | N8: 197
A9: Macbook Air 13inch 128GB | B9: =(GETPIVOTDATA(" Total",$G$3,"Product",$G10)*'Data Input'!$C9) -> 168910 | C9: =(SUM('Data Input'!$H17:$N17))/2 -> 43.5 | D9: =$B9/$C9 -> 3882.9885 | G9: 13inch Macbook Air 256GB | H9: 26 | I9: 38 | J9: 36 | K9: 45 | L9: 32 | M9: 29 | N9: 206
A10: Apple 21.5 inch imac 2.3Ghz | B10: =(GETPIVOTDATA(" Total",$G$3,"Product",$G11)*'Data Input'!$C10) -> 218709 | C10: =(SUM('Data Input'!$H18:$N18))/2 -> 38.5 | D10: =$B10/$C10 -> 5680.7532 | G10: Macbook Air 13inch 128GB | H10: 26 | I10: 26 | J10: 19 | K10: 20 | L10: 6 | M10: 30 | N10: 127
A11: Apple 27 inch imac | B11: =(GETPIVOTDATA(" Total",$G$3,"Product",$G12)*'Data Input'!$C11) -> 167930 | C11: =(SUM('Data Input'!$H19:$N19))/2 -> 46.5 | D11: =$B11/$C11 -> 3611.3978 | G11: Apple 21.5 inch imac 2.3Ghz | H11: 44 | I11: 22 | J11: 28 | K11: 18 | L11: 21 | M11: 38 | N11: 171
A12: ipad mini 4 wifi 128gb | B12: =(GETPIVOTDATA(" Total",$G$3,"Product",$G13)*'Data Input'!$C12) -> 78422 | C12: =(SUM('Data Input'!$H20:$N20))/2 -> 66 | D12: =$B12/$C12 -> 1188.2121 | G12: Apple 27 inch imac | H12: 10 | I12: 8 | J12: 16 | K12: 18 | L12: 6 | M12: 12 | N12: 70
A13: ipad 10.5 inch pro | B13: =(GETPIVOTDATA(" Total",$G$3,"Product",$G14)*'Data Input'!$C13) -> 99519 | C13: =(SUM('Data Input'!$H21:$N21))/2 -> 36.5 | D13: =$B13/$C13 -> 2726.5479 | G13: ipad mini 4 wifi 128gb | H13: 62 | I13: 43 | J13: 26 | K13: 24 | L13: 32 | M13: 39 | N13: 226
A14: ipad 12.9 inch pro | B14: =(GETPIVOTDATA(" Total",$G$3,"Product",$G15)*'Data Input'!$C14) -> 149665 | C14: =(SUM('Data Input'!$H22:$N22))/2 -> 23 | D14: =$B14/$C14 -> 6507.1739 | G14: ipad 10.5 inch pro | H14: 23 | I14: 24 | J14: 31 | K14: 33 | L14: 8 | M14: 28 | N14: 147
A15: watch series 3 38mm | B15: =(GETPIVOTDATA(" Total",$G$3,"Product",$G16)*'Data Input'!$C15) -> 34960 | C15: =(SUM('Data Input'!$H23:$N23))/2 -> 39.5 | D15: =$B15/$C15 -> 885.06329 | G15: ipad 12.9 inch pro | H15: 23 | I15: 37 | J15: 20 | K15: 30 | L15: 45 | M15: 30 | N15: 185
A16: watch series 3 42mm | B16: =(GETPIVOTDATA(" Total",$G$3,"Product",$G17)*'Data Input'!$C16) -> 84162 | C16: =(SUM('Data Input'!$H24:$N24))/2 -> 43 | D16: =$B16/$C16 -> 1957.2558 | G16: watch series 3 38mm | H16: 22 | I16: 24 | J16: 20 | K16: 30 | L16: 30 | M16: 26 | N16: 152
G17: watch series 3 42mm | H17: 58 | I17: 61 | J17: 56 | K17: 46 | L17: 75 | M17: 42 | N17: 338
B18: Sales:
A19: Product | B19: 42917 | C19: 42948 | D19: 42979 | E19: 43009 | F19: 43040 | G19: 43070 | H19: Total sales | J19: Employee | K19: Jul-17 | L19: Aug-17 | M19: Sep-17 | N19: Oct-17 | O19: Nov-17 | P19: Dec-17 | Q19: Total unit sold
A20: iphone 8 256gb | B20: =GETPIVOTDATA("Unit sales of Jul-17",$G$3,"Product",$G4)*'Data Input'!$D3 -> 60959 | C20: =GETPIVOTDATA("Unit sales of Aug-17",$G$3,"Product",$G4)*'Data Input'!$D3 -> 32425 | D20: =GETPIVOTDATA("Unit sales of Sep-17",$G$3,"Product",$G4)*'Data Input'!$D3 -> 28534 | E20: =GETPIVOTDATA("Unit sales of Oct-17",$G$3,"Product",$G4)*'Data Input'!$D3 -> 62256 | F20: =GETPIVOTDATA("Unit sales of Nov-17",$G$3,"Product",$G4)*'Data Input'!$D3 -> 27237 | G20: =GETPIVOTDATA("Unit sales of Dec-17",$G$3,"Product",$G4)*'Data Input'!$D3 -> 11673 | H20: =SUM(B20:G20) -> 223084 | J20: Arthur | K20: 23 | L20: 34 | M20: 20 | N20: 27 | O20: 27 | P20: 15 | Q20: 146
A21: iphone 8 64gb | B21: =GETPIVOTDATA("Unit sales of Jul-17",$G$3,"Product",$G5)*'Data Input'!$D4 -> 38739 | C21: =GETPIVOTDATA("Unit sales of Aug-17",$G$3,"Product",$G5)*'Data Input'!$D4 -> 20940 | D21: =GETPIVOTDATA("Unit sales of Sep-17",$G$3,"Product",$G5)*'Data Input'!$D4 -> 25128 | E21: =GETPIVOTDATA("Unit sales of Oct-17",$G$3,"Product",$G5)*'Data Input'!$D4 -> 33504 | F21: =GETPIVOTDATA("Unit sales of Nov-17",$G$3,"Product",$G5)*'Data Input'!$D4 -> 35598 | G21: =GETPIVOTDATA("Unit sales of Dec-17",$G$3,"Product",$G5)*'Data Input'!$D4 -> 27222 | H21: =SUM(B21:G21) -> 181131 | J21: ipad 12.9 inch pro | K21: 6 | L21: 8 | M21: 1 | N21: 8 | O21: 15 | P21: 4 | Q21: 42
A22: iphone 8 Plus 256GB | B22: =GETPIVOTDATA("Unit sales of Jul-17",$G$3,"Product",$G6)*'Data Input'!$D5 -> 44857 | C22: =GETPIVOTDATA("Unit sales of Aug-17",$G$3,"Product",$G6)*'Data Input'!$D5 -> 15917 | D22: =GETPIVOTDATA("Unit sales of Sep-17",$G$3,"Product",$G6)*'Data Input'!$D5 -> 37622 | E22: =GETPIVOTDATA("Unit sales of Oct-17",$G$3,"Product",$G6)*'Data Input'!$D5 -> 40516 | F22: =GETPIVOTDATA("Unit sales of Nov-17",$G$3,"Product",$G6)*'Data Input'!$D5 -> 15917 | G22: =GETPIVOTDATA("Unit sales of Dec-17",$G$3,"Product",$G6)*'Data Input'!$D5 -> 46304 | H22: =SUM(B22:G22) -> 201133 | J22: ipad mini 4 wifi 128gb | K22: 12 | L22: 10 | M22: 11 | N22: 6 | O22: 3 | P22: 8 | Q22: 50
A23: iphone 7 32GB | B23: =GETPIVOTDATA("Unit sales of Jul-17",$G$3,"Product",$G7)*'Data Input'!$D6 -> 22022 | C23: =GETPIVOTDATA("Unit sales of Aug-17",$G$3,"Product",$G7)*'Data Input'!$D6 -> 17787 | D23: =GETPIVOTDATA("Unit sales of Sep-17",$G$3,"Product",$G7)*'Data Input'!$D6 -> 8470 | E23: =GETPIVOTDATA("Unit sales of Oct-17",$G$3,"Product",$G7)*'Data Input'!$D6 -> 14399 | F23: =GETPIVOTDATA("Unit sales of Nov-17",$G$3,"Product",$G7)*'Data Input'!$D6 -> 27951 | G23: =GETPIVOTDATA("Unit sales of Dec-17",$G$3,"Product",$G7)*'Data Input'!$D6 -> 23716 | H23: =SUM(B23:G23) -> 114345 | J23: watch series 3 42mm | K23: 5 | L23: 16 | M23: 8 | N23: 13 | O23: 9 | P23: 3 | Q23: 54
A24: 15inch Macbook Pro 256GB | B24: =GETPIVOTDATA("Unit sales of Jul-17",$G$3,"Product",$G8)*'Data Input'!$D7 -> 150457 | C24: =GETPIVOTDATA("Unit sales of Aug-17",$G$3,"Product",$G8)*'Data Input'!$D7 -> 104970 | D24: =GETPIVOTDATA("Unit sales of Sep-17",$G$3,"Product",$G8)*'Data Input'!$D7 -> 90974 | E24: =GETPIVOTDATA("Unit sales of Oct-17",$G$3,"Product",$G8)*'Data Input'!$D7 -> 150457 | F24: =GETPIVOTDATA("Unit sales of Nov-17",$G$3,"Product",$G8)*'Data Input'!$D7 -> 94473 | G24: =GETPIVOTDATA("Unit sales of Dec-17",$G$3,"Product",$G8)*'Data Input'!$D7 -> 97972 | H24: =SUM(B24:G24) -> 689303 | J24: John | K24: 9 | L24: 10 | M24: 18 | N24: 8 | O24: 16 | P24: 7 | Q24: 68
A25: 13inch Macbook Air 256GB | B25: =GETPIVOTDATA("Unit sales of Jul-17",$G$3,"Product",$G9)*'Data Input'!$D8 -> 57174 | C25: =GETPIVOTDATA("Unit sales of Aug-17",$G$3,"Product",$G9)*'Data Input'!$D8 -> 83562 | D25: =GETPIVOTDATA("Unit sales of Sep-17",$G$3,"Product",$G9)*'Data Input'!$D8 -> 79164 | E25: =GETPIVOTDATA("Unit sales of Oct-17",$G$3,"Product",$G9)*'Data Input'!$D8 -> 98955 | F25: =GETPIVOTDATA("Unit sales of Nov-17",$G$3,"Product",$G9)*'Data Input'!$D8 -> 70368 | G25: =GETPIVOTDATA("Unit sales of Dec-17",$G$3,"Product",$G9)*'Data Input'!$D8 -> 63771 | H25: =SUM(B25:G25) -> 452994 | J25: watch series 3 42mm | K25: 9 | L25: 10 | M25: 18 | N25: 8 | O25: 16 | P25: 7 | Q25: 68
A26: Macbook Air 13inch 128GB | B26: =GETPIVOTDATA("Unit sales of Jul-17",$G$3,"Product",$G10)*'Data Input'!$D9 -> 49374 | C26: =GETPIVOTDATA("Unit sales of Aug-17",$G$3,"Product",$G10)*'Data Input'!$D9 -> 49374 | D26: =GETPIVOTDATA("Unit sales of Sep-17",$G$3,"Product",$G10)*'Data Input'!$D9 -> 36081 | E26: =GETPIVOTDATA("Unit sales of Oct-17",$G$3,"Product",$G10)*'Data Input'!$D9 -> 37980 | F26: =GETPIVOTDATA("Unit sales of Nov-17",$G$3,"Product",$G10)*'Data Input'!$D9 -> 11394 | G26: =GETPIVOTDATA("Unit sales of Dec-17",$G$3,"Product",$G10)*'Data Input'!$D9 -> 56970 | H26: =SUM(B26:G26) -> 241173 | J26: Mary | K26: 170 | L26: 117 | M26: 125 | N26: 139 | O26: 120 | P26: 130 | Q26: 801
A27: Apple 21.5 inch imac 2.3Ghz | B27: =GETPIVOTDATA("Unit sales of Jul-17",$G$3,"Product",$G11)*'Data Input'!$D10 -> 70356 | C27: =GETPIVOTDATA("Unit sales of Aug-17",$G$3,"Product",$G11)*'Data Input'!$D10 -> 35178 | D27: =GETPIVOTDATA("Unit sales of Sep-17",$G$3,"Product",$G11)*'Data Input'!$D10 -> 44772 | E27: =GETPIVOTDATA("Unit sales of Oct-17",$G$3,"Product",$G11)*'Data Input'!$D10 -> 28782 | F27: =GETPIVOTDATA("Unit sales of Nov-17",$G$3,"Product",$G11)*'Data Input'!$D10 -> 33579 | G27: =GETPIVOTDATA("Unit sales of Dec-17",$G$3,"Product",$G11)*'Data Input'!$D10 -> 60762 | H27: =SUM(B27:G27) -> 273429 | J27: 13inch Macbook Air 256GB | K27: 17 | L27: 15 | M27: 11 | N27: 7 | O27: 9 | P27: 4 | Q27: 63
A28: Apple 27 inch imac | B28: =GETPIVOTDATA("Unit sales of Jul-17",$G$3,"Product",$G12)*'Data Input'!$D11 -> 29990 | C28: =GETPIVOTDATA("Unit sales of Aug-17",$G$3,"Product",$G12)*'Data Input'!$D11 -> 23992 | D28: =GETPIVOTDATA("Unit sales of Sep-17",$G$3,"Product",$G12)*'Data Input'!$D11 -> 47984 | E28: =GETPIVOTDATA("Unit sales of Oct-17",$G$3,"Product",$G12)*'Data Input'!$D11 -> 53982 | F28: =GETPIVOTDATA("Unit sales of Nov-17",$G$3,"Product",$G12)*'Data Input'!$D11 -> 17994 | G28: =GETPIVOTDATA("Unit sales of Dec-17",$G$3,"Product",$G12)*'Data Input'!$D11 -> 35988 | H28: =SUM(B28:G28) -> 209930 | J28: 15inch Macbook Pro 256GB | K28: 9 | L28: 19 | M28: 5 | N28: 9 | O28: 3 | P28: 6 | Q28: 51
A29: ipad mini 4 wifi 128gb | B29: =GETPIVOTDATA("Unit sales of Jul-17",$G$3,"Product",$G13)*'Data Input'!$D12 -> 35836 | C29: =GETPIVOTDATA("Unit sales of Aug-17",$G$3,"Product",$G13)*'Data Input'!$D12 -> 24854 | D29: =GETPIVOTDATA("Unit sales of Sep-17",$G$3,"Product",$G13)*'Data Input'!$D12 -> 15028 | E29: =GETPIVOTDATA("Unit sales of Oct-17",$G$3,"Product",$G13)*'Data Input'!$D12 -> 13872 | F29: =GETPIVOTDATA("Unit sales of Nov-17",$G$3,"Product",$G13)*'Data Input'!$D12 -> 18496 | G29: =GETPIVOTDATA("Unit sales of Dec-17",$G$3,"Product",$G13)*'Data Input'!$D12 -> 22542 | H29: =SUM(B29:G29) -> 130628 | J29: Apple 21.5 inch imac 2.3Ghz | K29: 15 | L29: 11 | M29: 5 | N29: 12 | O29: 6 | P29: 11 | Q29: 60
A30: ipad 10.5 inch pro | B30: =GETPIVOTDATA("Unit sales of Jul-17",$G$3,"Product",$G14)*'Data Input'!$D13 -> 25967 | C30: =GETPIVOTDATA("Unit sales of Aug-17",$G$3,"Product",$G14)*'Data Input'!$D13 -> 27096 | D30: =GETPIVOTDATA("Unit sales of Sep-17",$G$3,"Product",$G14)*'Data Input'!$D13 -> 34999 | E30: =GETPIVOTDATA("Unit sales of Oct-17",$G$3,"Product",$G14)*'Data Input'!$D13 -> 37257 | F30: =GETPIVOTDATA("Unit sales of Nov-17",$G$3,"Product",$G14)*'Data Input'!$D13 -> 9032 | G30: =GETPIVOTDATA("Unit sales of Dec-17",$G$3,"Product",$G14)*'Data Input'!$D13 -> 31612 | H30: =SUM(B30:G30) -> 165963 | J30: Apple 27 inch imac | K30: 10 | L30: 8 | M30: 16 | N30: 18 | O30: 6 | P30: 12 | Q30: 70
A31: ipad 12.9 inch pro | B31: =GETPIVOTDATA("Unit sales of Jul-17",$G$3,"Product",$G15)*'Data Input'!$D14 -> 31027 | C31: =GETPIVOTDATA("Unit sales of Aug-17",$G$3,"Product",$G15)*'Data Input'!$D14 -> 49913 | D31: =GETPIVOTDATA("Unit sales of Sep-17",$G$3,"Product",$G15)*'Data Input'!$D14 -> 26980 | E31: =GETPIVOTDATA("Unit sales of Oct-17",$G$3,"Product",$G15)*'Data Input'!$D14 -> 40470 | F31: =GETPIVOTDATA("Unit sales of Nov-17",$G$3,"Product",$G15)*'Data Input'!$D14 -> 60705 | G31: =GETPIVOTDATA("Unit sales of Dec-17",$G$3,"Product",$G15)*'Data Input'!$D14 -> 40470 | H31: =SUM(B31:G31) -> 249565 | J31: ipad 10.5 inch pro | K31: 10 | L31: 9 | M31: 11 | N31: 18 | O31: 2 | P31: 9 | Q31: 59
... A33: watch series 3 42mm | B33: =GETPIVOTDATA("Unit sales of Jul-17",$G$3,"Product",$G17)*'Data Input'!$D16 -> 28942 | C33: =GETPIVOTDATA("Unit sales of Aug-17",$G$3,"Product",$G17)*'Data Input'!$D16 -> 30439 | D33: =GETPIVOTDATA("Unit sales of Sep-17",$G$3,"Product",$G17)*'Data Input'!$D16 -> 27944 | E33: =GETPIVOTDATA("Unit sales of Oct-17",$G$3,"Product",$G17)*'Data Input'!$D16 -> 22954 | F33: =GETPIVOTDATA("Unit sales of Nov-17",$G$3,"Product",$G17)*'Data Input'!$D16 -> 37425 | G33: =GETPIVOTDATA("Unit sales of Dec-17",$G$3,"Product",$G17)*'Data Input'!$D16 -> 20958 | H33: =SUM(B33:G33) -> 168662 | J33: ipad mini 4 wifi 128gb | K33: 18 | L33: 11 | M33: 6 | N33: 9 | O33: 10 | P33: 18 | Q33: 72
H34: =SUM(H20:H33) -> 3371108 | J34: iphone 7 32GB | K34: 17 | L34: 7 | M34: 8 | N34: 5 | O34: 19 | P34: 15 | Q34: 71
J35: iphone 8 256gb | K35: 12 | L35: 8 | M35: 9 | N35: 18 | O35: 5 | P35: 3 | Q35: 55
A36: Name | B36: Sales employee productivity ratio | J36: iphone 8 64gb | K36: 23 | L36: 4 | M36: 8 | N36: 9 | O36: 15 | P36: 4 | Q36: 63
B37: (Total units sold/monthly working hours) | J37: iphone 8 Plus 256GB | K37: 12 | L37: 5 | M37: 19 | N37: 14 | O37: 7 | P37: 16 | Q37: 73
A38: Mary | B38: =GETPIVOTDATA("Total unit sold",$J$19,"Employee","Mary")/'Data Input'!$I3 -> 6.675 | J38: watch series 3 38mm | K38: 5 | L38: 4 | M38: 8 | N38: 11 | O38: 7 | P38: 15 | Q38: 50
A39: John | B39: =GETPIVOTDATA("Total unit sold",$J$19,"Employee","John")/'Data Input'!$I4 -> 1.8378378 | J39: watch series 3 42mm | K39: 16 | L39: 7 | M39: 16 | N39: 1 | O39: 15 | P39: 10 | Q39: 65
A40: Peter | B40: =GETPIVOTDATA("Total unit sold",$J$19,"Employee","Peter")/'Data Input'!$I5 -> 8.35 | J40: Peter | K40: 132 | L40: 94 | M40: 88 | N40: 122 | O40: 108 | P40: 124 | Q40: 668
A41: Sally | B41: =GETPIVOTDATA("Total unit sold",$J$19,"Employee","Sally")/'Data Input'!$I6 -> 6.2916667 | J41: 13inch Macbook Air 256GB | K41: 1 | L41: 8 | M41: 15 | N41: 24 | O41: 17 | P41: 13 | Q41: 78
...

Sheet Report
A1: Apple Victoria Limited Dashboard
A11: Inventory Turnover
A12: Products | B12: Inventory Turnover
A13: =IF(Calculation!$A63=" "," ",Calculation!$A63) -> 13inch Macbook Air 256GB | B13: =IFERROR(GETPIVOTDATA("Inventory turnover",Calculation!$A$62,"Product",Calculation!A63),"") -> 7639.3735
A14: =IF(Calculation!$A64=" "," ",Calculation!$A64) -> 15inch Macbook Pro 256GB | B14: =IFERROR(GETPIVOTDATA("Inventory turnover",Calculation!$A$62,"Product",Calculation!A64),"") -> 12214
A15: =IF(Calculation!$A65=" "," ",Calculation!$A65) -> Apple 21.5 inch imac 2.3Ghz | B15: =IFERROR(GETPIVOTDATA("Inventory turnover",Calculation!$A$62,"Product",Calculation!A65),"") -> 5680.7532
A16: =IF(Calculation!$A66=" "," ",Calculation!$A66) -> Apple 27 inch imac | B16: =IFERROR(GETPIVOTDATA("Inventory turnover",Calculation!$A$62,"Product",Calculation!A66),"") -> 3611.3978
A17: =IF(Calculation!$A67=" "," ",Calculation!$A67) -> ipad 10.5 inch pro | B17: =IFERROR(GETPIVOTDATA("Inventory turnover",Calculation!$A$62,"Product",Calculation!A67),"") -> 2726.5479
A18: =IF(Calculation!$A68=" "," ",Calculation!$A68) -> ipad 12.9 inch pro | B18: =IFERROR(GETPIVOTDATA("Inventory turnover",Calculation!$A$62,"Product",Calculation!A68),"") -> 6507.1739
A19: =IF(Calculation!$A69=" "," ",Calculation!$A69) -> ipad mini 4 wifi 128gb | B19: =IFERROR(GETPIVOTDATA("Inventory turnover",Calculation!$A$62,"Product",Calculation!A69),"") -> 1188.2121
A20: =IF(Calculation!$A70=" "," ",Calculation!$A70) -> iphone 7 32GB | B20: =IFERROR(GETPIVOTDATA("Inventory turnover",Calculation!$A$62,"Product",Calculation!A70),"") -> 1455.8824
A21: =IF(Calculation!$A71=" "," ",Calculation!$A71) -> iphone 8 256gb | B21: =IFERROR(GETPIVOTDATA("Inventory turnover",Calculation!$A$62,"Product",Calculation!A71),"") -> 4999.8621
A22: =IF(Calculation!$A72=" "," ",Calculation!$A72) -> iphone 8 64gb | B22: =IFERROR(GETPIVOTDATA("Inventory turnover",Calculation!$A$62,"Product",Calculation!A72),"") -> 1960.6667 | E22: High -ve growth
A23: =IF(Calculation!$A73=" "," ",Calculation!$A73) -> iphone 8 Plus 256GB | B23: =IFERROR(GETPIVOTDATA("Inventory turnover",Calculation!$A$62,"Product",Calculation!A73),"") -> 3226.1728 | E23: High +ve growth
A24: =IF(Calculation!$A74=" "," ",Calculation!$A74) -> Macbook Air 13inch 128GB | B24: =IFERROR(GETPIVOTDATA("Inventory turnover",Calculation!$A$62,"Product",Calculation!A74),"") -> 3882.9885
A25: =IF(Calculation!$A75=" "," ",Calculation!$A75) -> watch series 3 38mm | B25: =IFERROR(GETPIVOTDATA("Inventory turnover",Calculation!$A$62,"Product",Calculation!A75),"") -> 885.06329
A26: =IF(Calculation!$A76=" "," ",Calculation!$A76) -> watch series 3 42mm | B26: =IFERROR(GETPIVOTDATA("Inventory turnover",Calculation!$A$62,"Product",Calculation!A76),"") -> 1957.2558
D27: Sales Growth Ratio
A28: Products | B28: JUL-AUG | C28: AUG-SEP | D28: SEP-OCT | E28: OCT-NOV | F28: NOV-DEC | G28: Overall Trend
A29: =IF(Calculation!$A20="","",Calculation!$A20) -> iphone 8 256gb | B29: =IFERROR(GETPIVOTDATA(" Sales growth ratio(JUL-AUG)",Calculation!$A$83,"Product",Calculation!$A84),"") -> 0.46153846 | C29: =IFERROR(GETPIVOTDATA(" Sales growth ratio(AUG-SEP)",Calculation!$A$83,"Product",Calculation!$A84),"") -> -0.052631579 | D29: =IFERROR(GETPIVOTDATA(" Sales growth ratio(SEP-OCT)",Calculation!$A$83,"Product",Calculation!$A84),"") -> 0.25 | E29: =IFERROR(GETPIVOTDATA(" Sales growth ratio(OCT-NOV)",Calculation!$A$83,"Product",Calculation!$A84),"") -> -0.28888889 | F29: =IFERROR(GETPIVOTDATA("Sales growth ratio(NOV-DEC)",Calculation!$A$83,"Product",Calculation!$A84),"") -> -0.09375
A30: =IF(Calculation!$A21="","",Calculation!$A21) -> iphone 8 64gb | B30: =IFERROR(GETPIVOTDATA(" Sales growth ratio(JUL-AUG)",Calculation!$A$83,"Product",Calculation!$A85),"") -> -0.30232558 | C30: =IFERROR(GETPIVOTDATA(" Sales growth ratio(AUG-SEP)",Calculation!$A$83,"Product",Calculation!$A85),"") -> -0.13333333 | D30: =IFERROR(GETPIVOTDATA(" Sales growth ratio(SEP-OCT)",Calculation!$A$83,"Product",Calculation!$A85),"") -> 0.65384615 | E30: =IFERROR(GETPIVOTDATA(" Sales growth ratio(OCT-NOV)",Calculation!$A$83,"Product",Calculation!$A85),"") -> -0.37209302 | F30: =IFERROR(GETPIVOTDATA("Sales growth ratio(NOV-DEC)",Calculation!$A$83,"Product",Calculation!$A85),"") -> 0.037037037
A31: =IF(Calculation!$A22="","",Calculation!$A22) -> iphone 8 Plus 256GB | B31: =IFERROR(GETPIVOTDATA(" Sales growth ratio(JUL-AUG)",Calculation!$A$83,"Product",Calculation!$A86),"") -> -0.5 | C31: =IFERROR(GETPIVOTDATA(" Sales growth ratio(AUG-SEP)",Calculation!$A$83,"Product",Calculation!$A86),"") -> 0.27272727 | D31: =IFERROR(GETPIVOTDATA(" Sales growth ratio(SEP-OCT)",Calculation!$A$83,"Product",Calculation!$A86),"") -> -0.35714286 | E31: =IFERROR(GETPIVOTDATA(" Sales growth ratio(OCT-NOV)",Calculation!$A$83,"Product",Calculation!$A86),"") -> 0.16666667 | F31: =IFERROR(GETPIVOTDATA("Sales growth ratio(NOV-DEC)",Calculation!$A$83,"Product",Calculation!$A86),"") -> 0.80952381
A32: =IF(Calculation!$A23="","",Calculation!$A23) -> iphone 7 32GB | B32: =IFERROR(GETPIVOTDATA(" Sales growth ratio(JUL-AUG)",Calculation!$A$83,"Product",Calculation!$A87),"") -> -0.2 | C32: =IFERROR(GETPIVOTDATA(" Sales growth ratio(AUG-SEP)",Calculation!$A$83,"Product",Calculation!$A87),"") -> 1 | D32: =IFERROR(GETPIVOTDATA(" Sales growth ratio(SEP-OCT)",Calculation!$A$83,"Product",Calculation!$A87),"") -> 0.125 | E32: =IFERROR(GETPIVOTDATA(" Sales growth ratio(OCT-NOV)",Calculation!$A$83,"Product",Calculation!$A87),"") -> -0.66666667 | F32: =IFERROR(GETPIVOTDATA("Sales growth ratio(NOV-DEC)",Calculation!$A$83,"Product",Calculation!$A87),"") -> 1
A33: =IF(Calculation!$A24="","",Calculation!$A24) -> 15inch Macbook Pro 256GB | B33: =IFERROR(GETPIVOTDATA(" Sales growth ratio(JUL-AUG)",Calculation!$A$83,"Product",Calculation!$A88),"") -> 0.043478261 | C33: =IFERROR(GETPIVOTDATA(" Sales growth ratio(AUG-SEP)",Calculation!$A$83,"Product",Calculation!$A88),"") -> 0.29166667 | D33: =IFERROR(GETPIVOTDATA(" Sales growth ratio(SEP-OCT)",Calculation!$A$83,"Product",Calculation!$A88),"") -> 0.064516129 | E33: =IFERROR(GETPIVOTDATA(" Sales growth ratio(OCT-NOV)",Calculation!$A$83,"Product",Calculation!$A88),"") -> -0.75757576 | F33: =IFERROR(GETPIVOTDATA("Sales growth ratio(NOV-DEC)",Calculation!$A$83,"Product",Calculation!$A88),"") -> 2.5
A34: =IF(Calculation!$A25="","",Calculation!$A25) -> 13inch Macbook Air 256GB | B34: =IFERROR(GETPIVOTDATA(" Sales growth ratio(JUL-AUG)",Calculation!$A$83,"Product",Calculation!$A89),"") -> 0.60869565 | C34: =IFERROR(GETPIVOTDATA(" Sales growth ratio(AUG-SEP)",Calculation!$A$83,"Product",Calculation!$A89),"") -> -0.45945946 | D34: =IFERROR(GETPIVOTDATA(" Sales growth ratio(SEP-OCT)",Calculation!$A$83,"Product",Calculation!$A89),"") -> 0.5 | E34: =IFERROR(GETPIVOTDATA(" Sales growth ratio(OCT-NOV)",Calculation!$A$83,"Product",Calculation!$A89),"") -> 0.5 | F34: =IFERROR(GETPIVOTDATA("Sales growth ratio(NOV-DEC)",Calculation!$A$83,"Product",Calculation!$A89),"") -> -0.33333333
A35: =IF(Calculation!$A26="","",Calculation!$A26) -> Macbook Air 13inch 128GB | B35: =IFERROR(GETPIVOTDATA(" Sales growth ratio(JUL-AUG)",Calculation!$A$83,"Product",Calculation!$A90),"") -> -0.30645161 | C35: =IFERROR(GETPIVOTDATA(" Sales growth ratio(AUG-SEP)",Calculation!$A$83,"Product",Calculation!$A90),"") -> -0.39534884 | D35: =IFERROR(GETPIVOTDATA(" Sales growth ratio(SEP-OCT)",Calculation!$A$83,"Product",Calculation!$A90),"") -> -0.076923077 | E35: =IFERROR(GETPIVOTDATA(" Sales growth ratio(OCT-NOV)",Calculation!$A$83,"Product",Calculation!$A90),"") -> 0.33333333 | F35: =IFERROR(GETPIVOTDATA("Sales growth ratio(NOV-DEC)",Calculation!$A$83,"Product",Calculation!$A90),"") -> 0.21875
A36: =IF(Calculation!$A27="","",Calculation!$A27) -> Apple 21.5 inch imac 2.3Ghz | B36: =IFERROR(GETPIVOTDATA(" Sales growth ratio(JUL-AUG)",Calculation!$A$83,"Product",Calculation!$A91),"") -> -0.19230769 | C36: =IFERROR(GETPIVOTDATA(" Sales growth ratio(AUG-SEP)",Calculation!$A$83,"Product",Calculation!$A91),"") -> -0.52380952 | D36: =IFERROR(GETPIVOTDATA(" Sales growth ratio(SEP-OCT)",Calculation!$A$83,"Product",Calculation!$A91),"") -> 0.7 | E36: =IFERROR(GETPIVOTDATA(" Sales growth ratio(OCT-NOV)",Calculation!$A$83,"Product",Calculation!$A91),"") -> 0.94117647 | F36: =IFERROR(GETPIVOTDATA("Sales growth ratio(NOV-DEC)",Calculation!$A$83,"Product",Calculation!$A91),"") -> -0.15151515
A37: =IF(Calculation!$A28="","",Calculation!$A28) -> Apple 27 inch imac | B37: =IFERROR(GETPIVOTDATA(" Sales growth ratio(JUL-AUG)",Calculation!$A$83,"Product",Calculation!$A92),"") -> -0.46808511 | C37: =IFERROR(GETPIVOTDATA(" Sales growth ratio(AUG-SEP)",Calculation!$A$83,"Product",Calculation!$A92),"") -> -0.12 | D37: =IFERROR(GETPIVOTDATA(" Sales growth ratio(SEP-OCT)",Calculation!$A$83,"Product",Calculation!$A92),"") -> 1.1818182 | E37: =IFERROR(GETPIVOTDATA(" Sales growth ratio(OCT-NOV)",Calculation!$A$83,"Product",Calculation!$A92),"") -> -0.5625 | F37: =IFERROR(GETPIVOTDATA("Sales growth ratio(NOV-DEC)",Calculation!$A$83,"Product",Calculation!$A92),"") -> -0.57142857
A38: =IF(Calculation!$A29="","",Calculation!$A29) -> ipad mini 4 wifi 128gb | B38: =IFERROR(GETPIVOTDATA(" Sales growth ratio(JUL-AUG)",Calculation!$A$83,"Product",Calculation!$A93),"") -> -0.45945946 | C38: =IFERROR(GETPIVOTDATA(" Sales growth ratio(AUG-SEP)",Calculation!$A$83,"Product",Calculation!$A93),"") -> 0.2 | D38: =IFERROR(GETPIVOTDATA(" Sales growth ratio(SEP-OCT)",Calculation!$A$83,"Product",Calculation!$A93),"") -> 0.33333333 | E38: =IFERROR(GETPIVOTDATA(" Sales growth ratio(OCT-NOV)",Calculation!$A$83,"Product",Calculation!$A93),"") -> 0.0625 | F38: =IFERROR(GETPIVOTDATA("Sales growth ratio(NOV-DEC)",Calculation!$A$83,"Product",Calculation!$A93),"") -> -0.23529412
A39: =IF(Calculation!$A30="","",Calculation!$A30) -> ipad 10.5 inch pro | B39: =IFERROR(GETPIVOTDATA(" Sales growth ratio(JUL-AUG)",Calculation!$A$83,"Product",Calculation!$A94),"") -> -0.64516129 | C39: =IFERROR(GETPIVOTDATA(" Sales growth ratio(AUG-SEP)",Calculation!$A$83,"Product",Calculation!$A94),"") -> 1.3636364 | D39: =IFERROR(GETPIVOTDATA(" Sales growth ratio(SEP-OCT)",Calculation!$A$83,"Product",Calculation!$A94),"") -> 0.076923077 | E39: =IFERROR(GETPIVOTDATA(" Sales growth ratio(OCT-NOV)",Calculation!$A$83,"Product",Calculation!$A94),"") -> -0.60714286 | F39: =IFERROR(GETPIVOTDATA("Sales growth ratio(NOV-DEC)",Calculation!$A$83,"Product",Calculation!$A94),"") -> 1.9090909
A40: =IF(Calculation!$A31="","",Calculation!$A31) -> ipad 12.9 inch pro | B40: =IFERROR(GETPIVOTDATA(" Sales growth ratio(JUL-AUG)",Calculation!$A$83,"Product",Calculation!$A95),"") -> 0 | C40: =IFERROR(GETPIVOTDATA(" Sales growth ratio(AUG-SEP)",Calculation!$A$83,"Product",Calculation!$A95),"") -> -0.26923077 | D40: =IFERROR(GETPIVOTDATA(" Sales growth ratio(SEP-OCT)",Calculation!$A$83,"Product",Calculation!$A95),"") -> 0.052631579 | E40: =IFERROR(GETPIVOTDATA(" Sales growth ratio(OCT-NOV)",Calculation!$A$83,"Product",Calculation!$A95),"") -> -0.7 | F40: =IFERROR(GETPIVOTDATA("Sales growth ratio(NOV-DEC)",Calculation!$A$83,"Product",Calculation!$A95),"") -> 4
... A42: =IF(Calculation!$A33="","",Calculation!$A33) -> watch series 3 42mm | B42: =IFERROR(GETPIVOTDATA(" Sales growth ratio(JUL-AUG)",Calculation!$A$83,"Product",Calculation!$A97),"") -> 0.051724138 | C42: =IFERROR(GETPIVOTDATA(" Sales growth ratio(AUG-SEP)",Calculation!$A$83,"Product",Calculation!$A97),"") -> -0.081967213 | D42: =IFERROR(GETPIVOTDATA(" Sales growth ratio(SEP-OCT)",Calculation!$A$83,"Product",Calculation!$A97),"") -> -0.17857143 | E42: =IFERROR(GETPIVOTDATA(" Sales growth ratio(OCT-NOV)",Calculation!$A$83,"Product",Calculation!$A97),"") -> 0.63043478 | F42: =IFERROR(GETPIVOTDATA("Sales growth ratio(NOV-DEC)",Calculation!$A$83,"Product",Calculation!$A97),"") -> -0.44
