Workbook

Sheet Data
A1: Social media performance of Australian supermarkets in 2016 | F1: Social media performance in 2015
A2: Brand | B2: Coles | C2: Woolworths | D2: Aldi Australia | F2: Coles | G2: Woolworths | H2: Aldi Australia
A3: Awareness / Reach | F3: Awareness / Reach
A4: Facebook likes (total for the brand page) | B4: 1070074 | C4: 922502 | D4: 386380 | F4: 874484 | G4: 820114 | H4: 301397
A5: Youtube subscribers | B5: 47633 | C5: 17102 | D5: 1399 | F5: 38311 | G5: 12542 | H5: 957
A6: Youtube joining date | B6: Aug 5, 2008 | C6: July 27, 2011 | D6: Oct 24, 2012 | F6: Aug 5, 2008 | G6: July 27, 2011 | H6: Oct 24, 2012
A7: Engagement | F7: Engagement
A8: YouTube metrics (computed for Aug 2016) | F8: YouTube metrics
A9: No. of Youtube videos | B9: 24 | C9: 12 | D9: 0 | F9: 697 | G9: 554 | H9: 22
A10: Total Youtube views | B10: =SUM('YouTube data'!C3:C26) -> 290860 | C10: =SUM('YouTube data'!G3:G14) -> 18442 | D10: 0 | F10: 12249728 | G10: 8521127 | H10: 18695
A11: Avg. views per video | B11: =B10/B9 -> 12119.167 | C11: =C10/C9 -> 1536.8333 | F11: 17574.933 | G11: 15381.096 | H11: 849.77273
A12: Facebook metrics (computed for Aug 16-31, 2016) | F12: Facebook metrics(from Aug 16-31, 2015)
A13: No. of. Facebook posts | B13: 12 | C13: 9 | D13: 13 | F13: 19 | G13: 23 | H13: 22
A14: Avg. likes per Facebook post | B14: =AVERAGE('Facebook data'!C3:C14) -> 460.75 | C14: =AVERAGE('Facebook data'!J3:J11) -> 5456.7778 | D14: =AVERAGE('Facebook data'!Q3:Q15) -> 335.07692 | F14: 563.79 | G14: 114.56 | H14: 223.59
A15: Avg. comments per Facebook post | B15: =AVERAGE('Facebook data'!E3:E14) -> 121.33333 | C15: =AVERAGE('Facebook data'!L3:L11) -> 198.55556 | D15: =AVERAGE('Facebook data'!S3:S15) -> 416.61538 | F15: 111.95 | G15: 10.3 | H15: 242.95
A16: Avg. shares per Facebook post | B16: =AVERAGE('Facebook data'!D3:D14) -> 69.666667 | C16: =AVERAGE('Facebook data'!K3:K11) -> 213.11111 | D16: =AVERAGE('Facebook data'!R3:R15) -> 42.615385 | F16: 156.73 | G16: 26.39 | H16: 20.32
A17: Avg. engagement (likes/comments/shares) per post | B17: =AVERAGE('Facebook data'!F3:F14) -> 651.75 | C17: =AVERAGE('Facebook data'!M3:M11) -> 5868.4444 | D17: =AVERAGE('Facebook data'!T3:T15) -> 794.30769 | F17: 832.47 | G17: 151.26 | H17: 486.86
A18: Facebook total engagement (likes/comments/shares) | B18: =SUM('Facebook data'!F3:F14) -> 7821 | C18: =SUM('Facebook data'!M3:M11) -> 52816 | D18: =SUM('Facebook data'!T3:T15) -> 10326 | F18: 15817 | G18: 3479 | H18: 10711
A19: Voice and share of voice from Google Trends (for Jan 2016 - Aug 2016) | F19: Share of voice (Jan 2015 - Aug 2015)
A20: Avg. voice (using supermarket in search term) | B20: 55.428571 | C20: 56.285714 | D20: 25.228571 | F20: 46.4 | G20: 51.4 | H20: 20.49
A21: Share of voice | B21: =B20/(SUM($B$20:$D$20)) -> 0.40475694 | C21: =C20/(SUM($B$20:$D$20)) -> 0.41101607 | D21: =D20/(SUM($B$20:$D$20)) -> 0.184227 | F21: =F20/SUM($F20:$H20) -> 0.39225632 | G21: =G20/SUM($F20:$H20) -> 0.43452532 | H21: =H20/SUM($F20:$H20) -> 0.17321836
A22: Market share | F22: Market share in 2015
A23: Market share in 2016 (RoyMorgan research) | B23: 0.325 | C23: 0.373 | D23: 0.121 | F23: 0.318 | G23: 0.385 | H23: 0.116
A24: Share of online shopping (IBIS research) | B24: 0.077 | C24: 0.102 | D24: NA | F24: 0.099 | G24: 0.087 | H24: NA
A26: Key findings and recommendations in 2015
A27: 1. Despite being a larger retailer, Woolworths lagged behind Coles in online reach, and engagement. Though reach is not far behind that of Coles, engagement lags behind Coles significantly (particularly in Facebook). 2. Woolworths's online share of purchases were lower than that of coles. 3. Smaller retailer Aldi predominantly focused on Facebook channel and did well in that channel. Woolworths social media strategy lacked focus- it was competing with Coles on all channels and was lagging behind on all of them. 4. Overall, Woolworths needs to improve its social media strategy execution by identifying one channel to focus and concentrate its efforts on improving customer engagement.
A37: Findings in 2016:
A38: Awareness- Overall Coles has the highest brand awareness in comparison to the woolworths and aldi, this may also be due to coles investing in Facebook and youtube well before (2008) its competitors stepped onto the social media platform. Enangement for Facebook and Youtube- Coles again has the highest enangement for youtube and facebook, while Aldi has not invested in youtube advertising. Share of voice- Aldi has the lowest share of voice as its average voice is much lower than Coles and Woolworths Market Share- Overall, Coles still takes the lead in market share followed by woolworths and Aldi.
A46: Recommendations
A47: Which channel should be invested more in?
A48: Why?
A49: Aldi should invest more in social media strategy, currently due to the lack of presence in Youtube and less efforts in facebook, Aldi is lagging behind on its customer engagement. Social media is going to be "the" platform for brand promotion and customer attaction as traditional advertising no longer reaches all segments of the population. Therefore, it is crucial that Aldi focuses all its efforts to develop a successful social media strategy and implement it. Also Coles and woolworths are very close competitors for market share, with only a difference of 5%, Woolworths should continue to predominantly focus on facebook as its main channel and persistently implement its strategy. Whereas, Coles should continue the efforts and strategy it is implementing and focus predominantly on youtube as it has a dominant hold and it has been successful.

Sheet YouTube data
A1: Coles | E1: Woolworths | I1: Aldi
A2: S. No | B2: Title | C2: Views | E2: S. No | F2: Title | G2: Views | I2: S. No | J2: Title | K2: Views
A3: 1 | B3: How to make delicious home made nut butter | C3: 598 | E3: 1 | F3: How to make chilli chicken drumsticks | G3: 688
A4: 2 | B4: How to use gravy beef | C4: 2796 | E4: 2 | F4: How to make lamb kofta | G4: 516
A5: 3 | B5: How to use chuck casserole steak | C5: 5193 | E5: 3 | F5: How to make poached eggs | G5: 721
A6: 4 | B6: How to make the perfect pizza dough | C6: 7721 | E6: 4 | F6: How to make Quinoa pizza | G6: 364
A7: 5 | B7: The ultimate big breakfast | C7: 6733 | E7: 5 | F7: Woolworths eat like champ | G7: 200
A8: 6 | B8: 5-minute doughnut dessert | C8: 2349 | E8: 6 | F8: Taste of home | G8: 229
A9: 7 | B9: How to make speedy sweet potatoes | C9: 1387 | E9: 7 | F9: Woolworths eat like champ | G9: 207
A10: 8 | B10: The new hash browns | C10: 2470 | E10: 8 | F10: Paralympics - Ryley | G10: 405
A11: 9 | B11: How to make cheesy parsnip fries | C11: 1487 | E11: 9 | F11: Olympics - Joe Ingles | G11: 2863
A12: 10 | B12: How to make chocolate skillet cookie cake | C12: 2191 | E12: 10 | F12: Grown in Australia | G12: 8164
A13: 11 | B13: Quick banana split | C13: 1052 | E13: 11 | F13: Ryeley Batt BTS | G13: 2059
A14: 12 | B14: How to make surprise peanut butter… | C14: 28251 | E14: 12 | F14: Joe Ingles Bts for WOW | G14: 2026
A15: 13 | B15: Easy carrot-cake flavoured porridge | C15: 1078 | F15: Total | G15: =SUM(G3:G14) -> 18442
A16: 14 | B16: Easy pizza dough | C16: 5935
A17: 15 | B17: How to make peanut butter frosting | C17: 2020
A18: 16 | B18: Smoothie bowls | C18: 31779
A19: 17 | B19: How to make real strawberry milk | C19: 43309
A20: 18 | B20: Peppered chicken and Strawberry salad | C20: 6167
A21: 19 | B21: How to make rainbow Choc-chip strawberries | C21: 5583
A22: 20 | B22: Strawberry cheesecake iceblocks | C22: 19566
A23: 21 | B23: How to make strawberry dressing | C23: 34152
A24: 22 | B24: Easiest ever sausage rolls | C24: 28746
A25: 23 | B25: Super simple spring lamb and haloumi skewers | C25: 22967
A26: 24 | B26: Easiest ever lamb salad | C26: 27330
B27: Total | C27: =SUM(C3:C26) -> 290860

Sheet Facebook data
A1: Coles | H1: Woolworths | O1: Aldi
A2: Date | B2: Story | C2: Likes | D2: Shares | E2: Comments | F2: Total | H2: Date | I2: Story | J2: Likes | K2: Shares | L2: Comments | M2: Total | O2: Date | P2: Story | Q2: Likes | R2: Shares | S2: Comments | T2: Total
A3: 11536 | B3: O & G protein | C3: 286 | D3: 15 | E3: 67 | F3: =SUM(C3:E3) -> 368 | H3: 11171 | I3: Breakfast | J3: 794 | K3: 155 | L3: 78 | M3: =SUM(J3:L3) -> 1027 | O3: 11536 | P3: Kitchen baking | Q3: 323 | R3: 19 | S3: 208 | T3: =Q3+R3+S3 -> 550
A4: 46966 | B4: Dolmio | C4: 283 | D4: 1 | E4: 26 | F4: =SUM(C4:E4) -> 310 | H4: 46235 | I4: Honey soy chicken wings | J4: 710 | K4: 394 | L4: 98 | M4: =SUM(J4:L4) -> 1202 | O4: 11171 | P4: Sunday breakfast | Q4: 359 | R4: 106 | S4: 57 | T4: =Q4+R4+S4 -> 522
A5: 46966 | B5: Dinner dilemmas | C5: 451 | D5: 74 | E5: 33 | F5: =SUM(C5:E5) -> 558 | H5: 45139 | I5: Breakfast from Brazil | J5: 10353 | K5: 214 | L5: 368 | M5: =SUM(J5:L5) -> 10935 | O5: 47331 | P5: Expressi machine | Q5: 1230 | R5: 160 | S5: 2025 | T5: =Q5+R5+S5 -> 3415
A6: 46600 | B6: American inspired meal ideas | C6: 303 | D6: 54 | E6: 31 | F6: =SUM(C6:E6) -> 388 | H6: 44774 | I6: Aussie olympians | J6: 637 | K6: 51 | L6: 26 | M6: =SUM(J6:L6) -> 714 | O6: 46966 | P6: Taglietelle | Q6: 320 | R6: 67 | S6: 44 | T6: =Q6+R6+S6 -> 431
A7: 46235 | B7: Peanut butter recipe | C7: 752 | D7: 172 | E7: 235 | F7: =SUM(C7:E7) -> 1159 | H7: 44409 | I7: Aussie athelets | J7: 20602 | K7: 563 | L7: 228 | M7: =SUM(J7:L7) -> 21393 | O7: 46600 | P7: Basketball special buys | Q7: 111 | R7: 2 | S7: 94 | T7: =Q7+R7+S7 -> 207
A8: 45870 | B8: Moo's premium yogurt | C8: 615 | D8: 26 | E8: 208 | F8: =SUM(C8:E8) -> 849 | H8: 44044 | I8: Brekkie in Australia | J8: 13717 | K8: 499 | L8: 902 | M8: =SUM(J8:L8) -> 15118 | O8: 46235 | P8: Tell us | Q8: 383 | R8: 11 | S8: 1326 | T8: =Q8+R8+S8 -> 1720
A9: 45505 | B9: Cookie | C9: 586 | D9: 54 | E9: 174 | F9: =SUM(C9:E9) -> 814 | H9: 43678 | I9: Joe Ingles | J9: 83 | K9: 0 | L9: 3 | M9: =SUM(J9:L9) -> 86 | O9: 45870 | P9: Why your dad is the best | Q9: 671 | R9: 119 | S9: 923 | T9: =Q9+R9+S9 -> 1713
A10: 44774 | B10: Coles | C10: 165 | D10: 0 | E10: 45 | F10: =SUM(C10:E10) -> 210 | H10: 43313 | I10: Fastest hand peeled orange | J10: 55 | K10: 2 | L10: 1 | M10: =SUM(J10:L10) -> 58 | O10: 45505 | P10: Fathers day savory or sweet | Q10: 105 | R10: 3 | S10: 9 | T10: =Q10+R10+S10 -> 117
A11: 44409 | B11: Weeknight meals | C11: 406 | D11: 78 | E11: 44 | F11: =SUM(C11:E11) -> 528 | H11: 42583 | I11: feast like a winner | J11: 2160 | K11: 40 | L11: 83 | M11: =SUM(J11:L11) -> 2283 | O11: 45139 | P11: Succulent dinners | Q11: 98 | R11: 4 | S11: 34 | T11: =Q11+R11+S11 -> 136
A12: 44044 | B12: Pork in your fork | C12: 209 | D12: 28 | E12: 18 | F12: =SUM(C12:E12) -> 255 | O12: 44774 | P12: Drinks | Q12: 172 | R12: 2 | S12: 96 | T12: =Q12+R12+S12 -> 270
A13: 43678 | B13: Nachos | C13: 789 | D13: 254 | E13: 306 | F13: =SUM(C13:E13) -> 1349 | O13: 44409 | P13: Chicken cobber | Q13: 231 | R13: 54 | S13: 14 | T13: =Q13+R13+S13 -> 299
A14: 42948 | B14: Sweet treat | C14: 684 | D14: 80 | E14: 269 | F14: =SUM(C14:E14) -> 1033 | O14: 44044 | P14: Active wear | Q14: 102 | R14: 3 | S14: 52 | T14: =Q14+R14+S14 -> 157
O15: 43678 | P15: Aldi items pantry | Q15: 251 | R15: 4 | S15: 534 | T15: =Q15+R15+S15 -> 789

Sheet Google trends
A1: Supermarket company
A2: Week | B2: Coles | C2: Woolworths | D2: Aldi | F2: Average voice in 2015 (Jan to Aug 2015)
A3: 42008 | B3: 45 | C3: 48 | D3: 21 | F3: Coles | G3: =AVERAGE(B3:B37) -> 46.4
A4: 42015 | B4: 45 | C4: 49 | D4: 22 | F4: Woolworths | G4: =AVERAGE(C3:C37) -> 51.4
A5: 42022 | B5: 46 | C5: 49 | D5: 20 | F5: Aldi | G5: =AVERAGE(D3:D37) -> 20.485714
A6: 42029 | B6: 53 | C6: 57 | D6: 22
A7: 42036 | B7: 45 | C7: 49 | D7: 20 | F7: Average voice in 2016 (Jan to Aug 2016)
A8: 42043 | B8: 45 | C8: 47 | D8: 19 | F8: Coles | G8: =AVERAGE(B55:B1048576) -> 55.428571
A9: 42050 | B9: 46 | C9: 48 | D9: 20 | F9: Woolworths | G9: =AVERAGE(C55:C89) -> 56.285714
A10: 42057 | B10: 44 | C10: 49 | D10: 18 | F10: Aldi | G10: =AVERAGE(D55:D89) -> 25.228571
A11: 42064 | B11: 45 | C11: 48 | D11: 19
A12: 42071 | B12: 44 | C12: 50 | D12: 19
A13: 42078 | B13: 43 | C13: 50 | D13: 18
A14: 42085 | B14: 44 | C14: 52 | D14: 18
A15: 42092 | B15: 76 | C15: 84 | D15: 23
A16: 42099 | B16: 56 | C16: 66 | D16: 21
A17: 42106 | B17: 44 | C17: 52 | D17: 18
A18: 42113 | B18: 58 | C18: 64 | D18: 22
A19: 42120 | B19: 44 | C19: 48 | D19: 18
A20: 42127 | B20: 44 | C20: 50 | D20: 19
A21: 42134 | B21: 44 | C21: 46 | D21: 22
A22: 42141 | B22: 45 | C22: 46 | D22: 20
... A89: 42610 | B89: 53 | C89: 55 | D89: 25
